BEGIN:VCALENDAR
VERSION:2.0
PRODID:-//eventon.com NONSGML v1.0//EN
CALSCALE:GREGORIAN
METHOD:PUBLISH
BEGIN:VEVENT
UID:69ea3f5a4b8fe
DTSTAMP:20260423T154842
DTSTART:20231202
DTEND:20231204
TZID:Asia/Qatar
LOCATION:Doha\,  Qatar 
SUMMARY:IWF Executive Board Meeting
DESCRIPTION: Gathering esteemed leaders\,  this exclusive session of the International Weightlifting Federation is dedicated to deliberating upon strategic decisions\,  forthcoming initiatives\,  and the overarching global vision designed to propel the sport forward.\nhttps://awf.sport/events/iwf-executive-board-meeting/
URL:https://awf.sport/events/iwf-executive-board-meeting/
END:VEVENT
END:VCALENDAR