BEGIN:VCALENDAR
VERSION:2.0
PRODID:-//eventon.com NONSGML v1.0//EN
CALSCALE:GREGORIAN
METHOD:PUBLISH
BEGIN:VEVENT
UID:69e9a7b44bb3e
DTSTAMP:20260423T050140
DTSTART:20231204T070000Z
DTEND:20231214T170000Z
TZID:Asia/Qatar
LOCATION:Doha\,  Qatar 
SUMMARY:IWF Grand Prix II
DESCRIPTION: The IWF Grand Prix in Doha is a crucial qualifier for the 2024 Paris Olympics. Renowned athletes will compete for the chance to represent their nations on the global stage. Witness top-tier performance and determination in the pursuit of Olympic qualification.\nhttps://awf.sport/events/iwf-grand-prix-ii/
URL:https://awf.sport/events/iwf-grand-prix-ii/
END:VEVENT
END:VCALENDAR