BEGIN:VCALENDAR
VERSION:2.0
PRODID:-//eventon.com NONSGML v1.0//EN
CALSCALE:GREGORIAN
METHOD:PUBLISH
BEGIN:VEVENT
UID:69e9a7676385a
DTSTAMP:20260423T050023
DTSTART:20240203T050000Z
DTEND:20240203T150000Z
TZID:Asia/Tashkent
LOCATION:Yunusabad Sport Complex\,  Tashkent city Tashkent city
SUMMARY:AWF Senior Championships
DESCRIPTION: The championships will take place in Tashkent\,  Uzbekistan from 03-10 February As we approach the 2024 Asian Championships in Tashkent\,  it is clear that the event holds significance far beyond its immediate competitive scope. For the participating athletes\,  this championship is a critical juncture in their athletic careers\,  offering a[..]\nhttps://awf.sport/events/awf-senior-championships/
URL:https://awf.sport/events/awf-senior-championships/
END:VEVENT
END:VCALENDAR