BEGIN:VCALENDAR
VERSION:2.0
PRODID:-//eventon.com NONSGML v1.0//EN
CALSCALE:GREGORIAN
METHOD:PUBLISH
BEGIN:VEVENT
UID:69e9a728566e5
DTSTAMP:20260423T045920
DTSTART:20240331T050000Z
DTEND:20240411T150000Z
TZID:Asia/Tashkent
LOCATION:Phuket\,  Thailand 
SUMMARY:IWF World Cup - Paris Qual.
DESCRIPTION: The IWF World Cup is set to unfold as a pivotal qualifying event for the upcoming Paris Olympics\,  bringing together the world&#8217;s most accomplished weightlifters. In this highly anticipated tournament\,  each competitor will endeavor to surpass their limits and earn the honor of representing their country on the grandest stage[..]\nhttps://awf.sport/events/awf-senior-championships-paris-qual-copy-copy/
URL:https://awf.sport/events/awf-senior-championships-paris-qual-copy-copy/
END:VEVENT
END:VCALENDAR