BEGIN:VCALENDAR
VERSION:2.0
PRODID:-//eventon.com NONSGML v1.0//EN
CALSCALE:GREGORIAN
METHOD:PUBLISH
BEGIN:VEVENT
UID:69e9a7595361e
DTSTAMP:20260423T050009
DTSTART:20240522T050000Z
DTEND:20240526T150000Z
TZID:Asia/Tashkent
LOCATION:Lima\,  Peru 
SUMMARY:IWF World Youth Championships
DESCRIPTION: The IWF World Youth Championships stand as the proving ground for the next generation of weightlifting talent\,  set against the backdrop of international competition. Here\,  young athletes from around the globe will converge to push the boundaries of strength and skill\,  each aspiring to emerge as a champion in their[..]\nhttps://awf.sport/events/awf-senior-championships-copy/
URL:https://awf.sport/events/awf-senior-championships-copy/
END:VEVENT
END:VCALENDAR