BEGIN:VCALENDAR
VERSION:2.0
PRODID:-//eventon.com NONSGML v1.0//EN
CALSCALE:GREGORIAN
METHOD:PUBLISH
BEGIN:VEVENT
UID:69e9bde8b9c65
DTSTAMP:20260423T063624
DTSTART:20240726T050000Z
DTEND:20240811T150000Z
TZID:Asia/Tashkent
LOCATION:Paris\,  France 
SUMMARY:Olympic Games
DESCRIPTION: he Olympic Games stand as the zenith of international sport\,  a storied event steeped in history and prestige. Here\,  the world&#8217;s foremost athletes gather with years of preparation behind them\,  ready to demonstrate their prowess in the ultimate test of athletic mastery. The weightlifting platform becomes a focal point of[..]\nhttps://awf.sport/events/olympic-games/
URL:https://awf.sport/events/olympic-games/
END:VEVENT
END:VCALENDAR