BEGIN:VCALENDAR
VERSION:2.0
PRODID:-//eventon.com NONSGML v1.0//EN
CALSCALE:GREGORIAN
METHOD:PUBLISH
BEGIN:VEVENT
UID:69e9a7716d0ec
DTSTAMP:20260423T050033
DTSTART:20240919T050000Z
DTEND:20240927T150000Z
TZID:Asia/Tashkent
LOCATION:Leon\,  Spain 
SUMMARY:IWF World Junior Championships
DESCRIPTION: The IWF World Junior Championships present a stage where the emerging talents in weightlifting strive to make their mark before stepping into the senior ranks. This competition is where the stars of tomorrow are born\,  with young athletes from every corner of the globe displaying not just their physical strength\, [..]\nhttps://awf.sport/events/iwf-world-junior-championships/
URL:https://awf.sport/events/iwf-world-junior-championships/
END:VEVENT
END:VCALENDAR