BEGIN:VCALENDAR
VERSION:2.0
PRODID:-//eventon.com NONSGML v1.0//EN
CALSCALE:GREGORIAN
METHOD:PUBLISH
BEGIN:VEVENT
UID:69e9a77341348
DTSTAMP:20260423T050035
DTSTART:20241219T050000Z
DTEND:20241225T150000Z
TZID:Asia/Tashkent
LOCATION:Doha\,  Qatar 
SUMMARY:AWF Youth & Junior Championships
DESCRIPTION: The AWF Junior and Youth Championships present a stage where the emerging talents in weightlifting strive to make their mark before stepping into the senior ranks. This competition is where the stars of tomorrow are born\,  with young athletes from every corner of Asia displaying not just their physical strength\, [..]\nhttps://awf.sport/events/awf-youth-junior-championships/
URL:https://awf.sport/events/awf-youth-junior-championships/
END:VEVENT
END:VCALENDAR