BEGIN:VCALENDAR
VERSION:2.0
PRODID:-//eventon.com NONSGML v1.0//EN
CALSCALE:GREGORIAN
METHOD:PUBLISH
BEGIN:VEVENT
UID:69e9a75c383fa
DTSTAMP:20260423T050012
DTSTART:20241204T050000Z
DTEND:20241214T150000Z
TZID:Asia/Tashkent
LOCATION:Manama\,  Bahrein 
SUMMARY:IWF World Championships
DESCRIPTION: The IWF World Championships epitomize the pinnacle of weightlifting competition\,  gathering the finest athletes from across the globe to vie for the esteemed title of World Champion. In this arena\,  seasoned competitors and rising stars alike will demonstrate their years of dedication and discipline.\nhttps://awf.sport/events/iwf-world-championships/
URL:https://awf.sport/events/iwf-world-championships/
END:VEVENT
END:VCALENDAR