BEGIN:VCALENDAR
VERSION:2.0
PRODID:-//eventon.com NONSGML v1.0//EN
CALSCALE:GREGORIAN
METHOD:PUBLISH
BEGIN:VEVENT
UID:69e9a772532e5
DTSTAMP:20260423T050034
DTSTART:20241226T050000Z
DTEND:20241231T150000Z
TZID:Asia/Tashkent
LOCATION:Doha\,  Qatar 
SUMMARY:9th QATAR WEIGHTLIFTING CUP 2024
DESCRIPTION: Conducted under the rules and regulations of the International Weightlifting Federation(IWF)\,  the competition will feature multiple weight categories for both men andwomen\,  providing an inclusive platform for athletes of all backgrounds.\nhttps://awf.sport/events/9th-qatar-weightlifting-cup-2024/
URL:https://awf.sport/events/9th-qatar-weightlifting-cup-2024/
END:VEVENT
END:VCALENDAR