BEGIN:VCALENDAR
VERSION:2.0
PRODID:-//eventon.com NONSGML v1.0//EN
CALSCALE:GREGORIAN
METHOD:PUBLISH
BEGIN:VEVENT
UID:69e9a7649c1ec
DTSTAMP:20260423T050020
DTSTART:20251022T193000Z
DTEND:20251031T193000Z
TZID:Pacific/Midway
LOCATION:Manama\,  Bahrain 
SUMMARY:4th Asian Youth Games
DESCRIPTION: \nhttps://awf.sport/events/4th-asian-youth-games/
URL:https://awf.sport/events/4th-asian-youth-games/
END:VEVENT
END:VCALENDAR