BEGIN:VCALENDAR
VERSION:2.0
PRODID:-//eventon.com NONSGML v1.0//EN
CALSCALE:GREGORIAN
METHOD:PUBLISH
BEGIN:VEVENT
UID:69e9a715661f9
DTSTAMP:20260423T045901
DTSTART:20250509T050000Z
DTEND:20250509T150000Z
TZID:Asia/Tashkent
LOCATION:Jiangshan\,  China 
SUMMARY:AWF Senior Championships
DESCRIPTION: From May 9 to 15\,  2024\,  Jiangshan\,  China\,  will become the center of Asian weightlifting\,  hosting one of the most significant events of the year. This championship will bring together the continent&#8217;s strongest athletes as they strive for outstanding performances and strengthen their positions on the international stage.\nhttps://awf.sport/events/awf-senior-championships-2/
URL:https://awf.sport/events/awf-senior-championships-2/
END:VEVENT
END:VCALENDAR