BEGIN:VCALENDAR
VERSION:2.0
PRODID:-//eventon.com NONSGML v1.0//EN
CALSCALE:GREGORIAN
METHOD:PUBLISH
BEGIN:VEVENT
UID:69e9a7097f0ce
DTSTAMP:20260423T045849
DTSTART:20250430T050000Z
DTEND:20250505T150000Z
TZID:Asia/Tashkent
LOCATION:Lima\,  Peru 
SUMMARY:IWF World Junior and Youth Championships
DESCRIPTION: From April 30 to May 5\,  2024\,  Lima\,  Peru\,  will host the IWF World Junior and Youth Championships—a prestigious event bringing together the strongest young weightlifters from around the world. This competition serves as a crucial stage for emerging talent\,  showcasing the future stars of weightlifting on the international stage.[..]\nhttps://awf.sport/events/iwf-world-junior-and-youth-championships/
URL:https://awf.sport/events/iwf-world-junior-and-youth-championships/
END:VEVENT
END:VCALENDAR