BEGIN:VCALENDAR
VERSION:2.0
PRODID:-//eventon.com NONSGML v1.0//EN
CALSCALE:GREGORIAN
METHOD:PUBLISH
BEGIN:VEVENT
UID:69e9a759808ee
DTSTAMP:20260423T050009
DTSTART:20251003T050000Z
DTEND:20251012T150000Z
TZID:Asia/Tashkent
LOCATION:Forde\,  Norway 
SUMMARY:IWF World Championships
DESCRIPTION: From October 3 to 12\,  2024\,  the city of Forde\,  Norway\,  will host the IWF World Championships—one of the most anticipated events in the world of weightlifting. This competition will bring together the strongest athletes from across the globe\,  all striving for top honors on the international stage. Stay tuned[..]\nhttps://awf.sport/events/iwf-world-championships-2/
URL:https://awf.sport/events/iwf-world-championships-2/
END:VEVENT
END:VCALENDAR