BEGIN:VCALENDAR
VERSION:2.0
PRODID:-//eventon.com NONSGML v1.0//EN
CALSCALE:GREGORIAN
METHOD:PUBLISH
BEGIN:VEVENT
UID:69e9a7137548e
DTSTAMP:20260423T045859
DTSTART:20250309T173200Z
DTEND:20250315T173200Z
TZID:Africa/Abidjan
LOCATION:La Habana\,  Cuba 
SUMMARY:Pan-American Junior Championships
DESCRIPTION: \nhttps://awf.sport/events/pan-american-junior-championships/
URL:https://awf.sport/events/pan-american-junior-championships/
END:VEVENT
END:VCALENDAR