BEGIN:VCALENDAR
VERSION:2.0
PRODID:-//eventon.com NONSGML v1.0//EN
CALSCALE:GREGORIAN
METHOD:PUBLISH
BEGIN:VEVENT
UID:69e9a76652708
DTSTAMP:20260423T050022
DTSTART:20250411T173200Z
DTEND:20250413T173200Z
TZID:Africa/Abidjan
LOCATION:MELBOURNE\,  AUSTRALIA 
SUMMARY:OCEANIA JUNIOR and YOUTH WEIGHTLIFTING CHAMPIONSHIPS
DESCRIPTION: \nhttps://awf.sport/events/oceania-junior-and-youth-weightlifting-championships/
URL:https://awf.sport/events/oceania-junior-and-youth-weightlifting-championships/
END:VEVENT
END:VCALENDAR