BEGIN:VCALENDAR
VERSION:2.0
PRODID:-//eventon.com NONSGML v1.0//EN
CALSCALE:GREGORIAN
METHOD:PUBLISH
BEGIN:VEVENT
UID:69e9a78571fb8
DTSTAMP:20260423T050053
DTSTART:20250413T173200Z
DTEND:20250421T173200Z
TZID:Africa/Abidjan
LOCATION:Chișinău\,  Moldova 
SUMMARY:European Senior Championships
DESCRIPTION: \nhttps://awf.sport/events/european-senior-championships/
URL:https://awf.sport/events/european-senior-championships/
END:VEVENT
END:VCALENDAR