BEGIN:VCALENDAR
VERSION:2.0
PRODID:-//eventon.com NONSGML v1.0//EN
CALSCALE:GREGORIAN
METHOD:PUBLISH
BEGIN:VEVENT
UID:69e9a6d961629
DTSTAMP:20260423T045801
DTSTART:20250420T173200Z
DTEND:20250428T173200Z
TZID:Africa/Abidjan
LOCATION:Moka\,  Mauritius 
SUMMARY:African Senior Championships
DESCRIPTION: \nhttps://awf.sport/events/african-senior-championships/
URL:https://awf.sport/events/african-senior-championships/
END:VEVENT
END:VCALENDAR