BEGIN:VCALENDAR
VERSION:2.0
PRODID:-//eventon.com NONSGML v1.0//EN
CALSCALE:GREGORIAN
METHOD:PUBLISH
BEGIN:VEVENT
UID:69e9a72995900
DTSTAMP:20260423T045921
DTSTART:20250610T173200Z
DTEND:20250616T173200Z
TZID:Africa/Abidjan
LOCATION:Durres\,  Albania 
SUMMARY:Balkan Junior Championships
DESCRIPTION: \nhttps://awf.sport/events/balkan-junior-championships/
URL:https://awf.sport/events/balkan-junior-championships/
END:VEVENT
END:VCALENDAR