BEGIN:VCALENDAR
VERSION:2.0
PRODID:-//eventon.com NONSGML v1.0//EN
CALSCALE:GREGORIAN
METHOD:PUBLISH
BEGIN:VEVENT
UID:69e9a7893646a
DTSTAMP:20260423T050057
DTSTART:20250701T173200Z
DTEND:20250705T173200Z
TZID:Africa/Abidjan
LOCATION:TBD\,  PALAU 
SUMMARY:Pacific Mini Games + Oceania Senior Championships
DESCRIPTION: \nhttps://awf.sport/events/pacific-mini-games-oceania-senior-championships/
URL:https://awf.sport/events/pacific-mini-games-oceania-senior-championships/
END:VEVENT
END:VCALENDAR