BEGIN:VCALENDAR
VERSION:2.0
PRODID:-//eventon.com NONSGML v1.0//EN
CALSCALE:GREGORIAN
METHOD:PUBLISH
BEGIN:VEVENT
UID:69e9a7035d7b5
DTSTAMP:20260423T045843
DTSTART:20250721T173200Z
DTEND:20250726T173200Z
TZID:Africa/Abidjan
LOCATION:Cartagena\,  Columbia 
SUMMARY:Pan-American Senior Championships
DESCRIPTION: \nhttps://awf.sport/events/pan-american-semior-championships/
URL:https://awf.sport/events/pan-american-semior-championships/
END:VEVENT
END:VCALENDAR