BEGIN:VCALENDAR
VERSION:2.0
PRODID:-//eventon.com NONSGML v1.0//EN
CALSCALE:GREGORIAN
METHOD:PUBLISH
BEGIN:VEVENT
UID:69e9a78575a3d
DTSTAMP:20260423T050053
DTSTART:20250904T173200Z
DTEND:20250912T173200Z
TZID:Africa/Abidjan
LOCATION:Tirana\,  Albania 
SUMMARY:European Junior Championships
DESCRIPTION: \nhttps://awf.sport/events/european-junior-championships/
URL:https://awf.sport/events/european-junior-championships/
END:VEVENT
END:VCALENDAR