BEGIN:VCALENDAR
VERSION:2.0
PRODID:-//eventon.com NONSGML v1.0//EN
CALSCALE:GREGORIAN
METHOD:PUBLISH
BEGIN:VEVENT
UID:69e9a70a6f19e
DTSTAMP:20260423T045850
DTSTART:20251107T173200Z
DTEND:20251121T173200Z
TZID:Africa/Abidjan
LOCATION:Riyadh\,  Saudi Arabia 
SUMMARY:6th Islamic Solidarity Games 2025
DESCRIPTION: \nhttps://awf.sport/events/6th-islamic-solidarity-games-2025/
URL:https://awf.sport/events/6th-islamic-solidarity-games-2025/
END:VEVENT
END:VCALENDAR