BEGIN:VCALENDAR
VERSION:2.0
PRODID:-//eventon.com NONSGML v1.0//EN
CALSCALE:GREGORIAN
METHOD:PUBLISH
BEGIN:VEVENT
UID:69e9a770821f7
DTSTAMP:20260423T050032
DTSTART:20250809T173200Z
DTEND:20250823T173200Z
TZID:Africa/Abidjan
LOCATION:Asunción\,  Paraguay 
SUMMARY:II Junior Pan-American Games
DESCRIPTION: \nhttps://awf.sport/events/ii-junior-pan-american-games/
URL:https://awf.sport/events/ii-junior-pan-american-games/
END:VEVENT
END:VCALENDAR