BEGIN:VCALENDAR
VERSION:2.0
PRODID:-//eventon.com NONSGML v1.0//EN
CALSCALE:GREGORIAN
METHOD:PUBLISH
BEGIN:VEVENT
UID:69e9a71476a93
DTSTAMP:20260423T045900
DTSTART:20250815T173200Z
DTEND:20250822T173200Z
TZID:Africa/Abidjan
LOCATION:Accra\,  Ghana 
SUMMARY:African Youth & Junior Championships
DESCRIPTION: \nhttps://awf.sport/events/african-youth-junior-championships/
URL:https://awf.sport/events/african-youth-junior-championships/
END:VEVENT
END:VCALENDAR