BEGIN:VCALENDAR
VERSION:2.0
PRODID:-//eventon.com NONSGML v1.0//EN
CALSCALE:GREGORIAN
METHOD:PUBLISH
BEGIN:VEVENT
UID:69e9a713443f1
DTSTAMP:20260423T045859
DTSTART:20250824T173200Z
DTEND:20250830T173200Z
TZID:Africa/Abidjan
LOCATION:Ahmedabad\,  India 
SUMMARY:Commonwealth Senior\,  Junior & Youth Championships
DESCRIPTION: \nhttps://awf.sport/events/commonwealth-senior-junior-youth-championships/
URL:https://awf.sport/events/commonwealth-senior-junior-youth-championships/
END:VEVENT
END:VCALENDAR