BEGIN:VCALENDAR
VERSION:2.0
PRODID:-//eventon.com NONSGML v1.0//EN
CALSCALE:GREGORIAN
METHOD:PUBLISH
BEGIN:VEVENT
UID:69e9a7ae3aa0b
DTSTAMP:20260423T050134
DTSTART:20251110T173200Z
DTEND:20251115T173200Z
TZID:Africa/Abidjan
LOCATION:Ahmedabad\,  India 
SUMMARY:Pan-American Youth Championships
DESCRIPTION: \nhttps://awf.sport/events/pan-american-youth-championships/
URL:https://awf.sport/events/pan-american-youth-championships/
END:VEVENT
END:VCALENDAR