BEGIN:VCALENDAR
VERSION:2.0
PRODID:-//eventon.com NONSGML v1.0//EN
CALSCALE:GREGORIAN
METHOD:PUBLISH
BEGIN:VEVENT
UID:69e9a7b36992b
DTSTAMP:20260423T050139
DTSTART:20251121T173200Z
DTEND:20251207T173200Z
TZID:Africa/Abidjan
LOCATION:Lima\,  Peru 
SUMMARY:XX Bolivarian Games
DESCRIPTION: \nhttps://awf.sport/events/xx-bolivarian-games/
URL:https://awf.sport/events/xx-bolivarian-games/
END:VEVENT
END:VCALENDAR