BEGIN:VCALENDAR
VERSION:2.0
PRODID:-//eventon.com NONSGML v1.0//EN
CALSCALE:GREGORIAN
METHOD:PUBLISH
BEGIN:VEVENT
UID:69e9a7b054398
DTSTAMP:20260423T050136
DTSTART:20251126T173200Z
DTEND:20251130T173200Z
TZID:Africa/Abidjan
LOCATION:Tehran\,  Iran 
SUMMARY:6th International Men Fajr Cup
DESCRIPTION: \nhttps://awf.sport/events/6th-international-men-fajr-cup/
URL:https://awf.sport/events/6th-international-men-fajr-cup/
END:VEVENT
END:VCALENDAR