BEGIN:VCALENDAR
VERSION:2.0
PRODID:-//eventon.com NONSGML v1.0//EN
CALSCALE:GREGORIAN
METHOD:PUBLISH
BEGIN:VEVENT
UID:69e9a75675d85
DTSTAMP:20260423T050006
DTSTART:20250704T173200Z
DTEND:20250710T173200Z
TZID:Africa/Abidjan
LOCATION:Astana\,  Kazakhstan 
SUMMARY:2025 Asian Youth & Junior Weightlifting Championships
DESCRIPTION: From July 4 to 10\,  2025\,  the Asian Youth &amp; Junior Weightlifting Championships will be held in Astana\,  Kazakhstan. This prestigious competition will gather the most talented young weightlifters from across Asia. Before this Youth &amp; Junior Championship\,  the next congress meeting of the Asian Weightlifting Federation (AWF) will be[..]\nhttps://awf.sport/events/youth-and-junior-asian-championships/
URL:https://awf.sport/events/youth-and-junior-asian-championships/
END:VEVENT
END:VCALENDAR