BEGIN:VCALENDAR
VERSION:2.0
PRODID:-//eventon.com NONSGML v1.0//EN
CALSCALE:GREGORIAN
METHOD:PUBLISH
BEGIN:VEVENT
UID:69e9a773943c6
DTSTAMP:20260423T050035
DTSTART:20260509T135700Z
DTEND:20260517T135700Z
TZID:Africa/Abidjan
LOCATION:Gandhinagar\,  India 
SUMMARY:Asian Championships
DESCRIPTION: \nhttps://awf.sport/events/asian-championships/
URL:https://awf.sport/events/asian-championships/
END:VEVENT
END:VCALENDAR