BEGIN:VCALENDAR
VERSION:2.0
PRODID:-//eventon.com NONSGML v1.0//EN
CALSCALE:GREGORIAN
METHOD:PUBLISH
BEGIN:VEVENT
UID:69e9a768468bb
DTSTAMP:20260423T050024
DTSTART:20260412T135700Z
DTEND:20260416T135700Z
TZID:Africa/Abidjan
LOCATION:Panama city\,  Panama 
SUMMARY:4th South American Youth Games
DESCRIPTION: \nhttps://awf.sport/events/4th-south-american-youth-games/
URL:https://awf.sport/events/4th-south-american-youth-games/
END:VEVENT
END:VCALENDAR