BEGIN:VCALENDAR
VERSION:2.0
PRODID:-//eventon.com NONSGML v1.0//EN
CALSCALE:GREGORIAN
METHOD:PUBLISH
BEGIN:VEVENT
UID:69e9a75c59dd5
DTSTAMP:20260423T050012
DTSTART:20260418T135700Z
DTEND:20260424T135700Z
TZID:Africa/Abidjan
LOCATION:Guadalajara\,  Mexico 
SUMMARY:Pan-American Junior Championships
DESCRIPTION: \nhttps://awf.sport/events/pan-american-junior-championships-2/
URL:https://awf.sport/events/pan-american-junior-championships-2/
END:VEVENT
END:VCALENDAR