BEGIN:VCALENDAR
VERSION:2.0
PRODID:-//eventon.com NONSGML v1.0//EN
CALSCALE:GREGORIAN
METHOD:PUBLISH
BEGIN:VEVENT
UID:69e9a7664eb58
DTSTAMP:20260423T050022
DTSTART:20260419T135700Z
DTEND:20260426T135700Z
TZID:Africa/Abidjan
LOCATION:Batumi\,  Georgia 
SUMMARY:European Championships
DESCRIPTION: \nhttps://awf.sport/events/european-championships/
URL:https://awf.sport/events/european-championships/
END:VEVENT
END:VCALENDAR