BEGIN:VCALENDAR
VERSION:2.0
PRODID:-//eventon.com NONSGML v1.0//EN
CALSCALE:GREGORIAN
METHOD:PUBLISH
BEGIN:VEVENT
UID:69e9a78b43646
DTSTAMP:20260423T050059
DTSTART:20260807T135700Z
DTEND:20260814T135700Z
TZID:Africa/Abidjan
LOCATION:Tashkent\,  Uzbekistan 
SUMMARY:Asian Youth & Junior Championships
DESCRIPTION: \nhttps://awf.sport/events/asian-youth-junior-championships/
URL:https://awf.sport/events/asian-youth-junior-championships/
END:VEVENT
END:VCALENDAR