BEGIN:VCALENDAR
VERSION:2.0
PRODID:-//eventon.com NONSGML v1.0//EN
CALSCALE:GREGORIAN
METHOD:PUBLISH
BEGIN:VEVENT
UID:69e9a728bb315
DTSTAMP:20260423T045920
DTSTART:20260427T135700Z
DTEND:20260502T135700Z
TZID:Africa/Abidjan
LOCATION:Apia\,  Samoa 
SUMMARY:Oceania Senior\,  Junior & Youth Championships + Commonwealth Junior & Youth Championships + IWF World Cup
DESCRIPTION: \nhttps://awf.sport/events/oceania-senior-junior-youth-championships-commonwealth-junior-youth-championships-iwf-world-cup/
URL:https://awf.sport/events/oceania-senior-junior-youth-championships-commonwealth-junior-youth-championships-iwf-world-cup/
END:VEVENT
END:VCALENDAR