BEGIN:VCALENDAR
VERSION:2.0
PRODID:-//eventon.com NONSGML v1.0//EN
CALSCALE:GREGORIAN
METHOD:PUBLISH
BEGIN:VEVENT
UID:69e9a76450b28
DTSTAMP:20260423T050020
DTSTART:20260502T135700Z
DTEND:20260508T135700Z
TZID:Africa/Abidjan
LOCATION:Ismailia\,  Egypt 
SUMMARY:IWF World Junior Championships
DESCRIPTION: \nhttps://awf.sport/events/iwf-world-junior-championships-2/
URL:https://awf.sport/events/iwf-world-junior-championships-2/
END:VEVENT
END:VCALENDAR