BEGIN:VCALENDAR
VERSION:2.0
PRODID:-//eventon.com NONSGML v1.0//EN
CALSCALE:GREGORIAN
METHOD:PUBLISH
BEGIN:VEVENT
UID:69e9a7086acd6
DTSTAMP:20260423T045848
DTSTART:20260507T135700Z
DTEND:20260514T135700Z
TZID:Africa/Abidjan
LOCATION:Isla Margarita\,  Venezuela 
SUMMARY:Pan-American Championships
DESCRIPTION: \nhttps://awf.sport/events/pan-american-championships/
URL:https://awf.sport/events/pan-american-championships/
END:VEVENT
END:VCALENDAR