BEGIN:VCALENDAR
VERSION:2.0
PRODID:-//eventon.com NONSGML v1.0//EN
CALSCALE:GREGORIAN
METHOD:PUBLISH
BEGIN:VEVENT
UID:69e9a78b8d38b
DTSTAMP:20260423T050059
DTSTART:20260622T135700Z
DTEND:20260628T135700Z
TZID:Africa/Abidjan
LOCATION:Bogota\,  Colombia 
SUMMARY:IWF World Youth Championships
DESCRIPTION: \nhttps://awf.sport/events/iwf-world-youth-championships/
URL:https://awf.sport/events/iwf-world-youth-championships/
END:VEVENT
END:VCALENDAR