BEGIN:VCALENDAR
VERSION:2.0
PRODID:-//eventon.com NONSGML v1.0//EN
CALSCALE:GREGORIAN
METHOD:PUBLISH
BEGIN:VEVENT
UID:69e9a77043346
DTSTAMP:20260423T050032
DTSTART:20260725T135700Z
DTEND:20260808T135700Z
TZID:Africa/Abidjan
LOCATION:Santo Domingo\,  Dominican Republic 
SUMMARY:25th Central American and Caribbean Games
DESCRIPTION: \nhttps://awf.sport/events/25th-central-american-and-caribbean-games/
URL:https://awf.sport/events/25th-central-american-and-caribbean-games/
END:VEVENT
END:VCALENDAR