BEGIN:VCALENDAR
VERSION:2.0
PRODID:-//eventon.com NONSGML v1.0//EN
CALSCALE:GREGORIAN
METHOD:PUBLISH
BEGIN:VEVENT
UID:69e9a71663209
DTSTAMP:20260423T045902
DTSTART:20260726T135700Z
DTEND:20260730T135700Z
TZID:Africa/Abidjan
LOCATION:Glasgow\,  Scotland 
SUMMARY:XXIII Commonwealth Games
DESCRIPTION: \nhttps://awf.sport/events/xxiii-commonwealth-games/
URL:https://awf.sport/events/xxiii-commonwealth-games/
END:VEVENT
END:VCALENDAR