BEGIN:VCALENDAR
VERSION:2.0
PRODID:-//eventon.com NONSGML v1.0//EN
CALSCALE:GREGORIAN
METHOD:PUBLISH
BEGIN:VEVENT
UID:69e9a72a7f0e3
DTSTAMP:20260423T045922
DTSTART:20260831T135700Z
DTEND:20260902T135700Z
TZID:Africa/Abidjan
LOCATION:Taranto\,  Italia 
SUMMARY:XX Mediterranean Games
DESCRIPTION: \nhttps://awf.sport/events/xx-mediterranean-games/
URL:https://awf.sport/events/xx-mediterranean-games/
END:VEVENT
END:VCALENDAR