BEGIN:VCALENDAR
VERSION:2.0
PRODID:-//eventon.com NONSGML v1.0//EN
CALSCALE:GREGORIAN
METHOD:PUBLISH
BEGIN:VEVENT
UID:69e9a7276d738
DTSTAMP:20260423T045919
DTSTART:20260908T135700Z
DTEND:20260912T135700Z
TZID:Africa/Abidjan
LOCATION:Doha\,  Qatar 
SUMMARY:FISU World University Championship
DESCRIPTION: \nhttps://awf.sport/events/fisu-world-university-championship/
URL:https://awf.sport/events/fisu-world-university-championship/
END:VEVENT
END:VCALENDAR