BEGIN:VCALENDAR
VERSION:2.0
PRODID:-//eventon.com NONSGML v1.0//EN
CALSCALE:GREGORIAN
METHOD:PUBLISH
BEGIN:VEVENT
UID:69e9a717589ea
DTSTAMP:20260423T045903
DTSTART:20260913T135700Z
DTEND:20260917T135700Z
TZID:Africa/Abidjan
LOCATION:Santa Fe\,  Argentina 
SUMMARY:XIII South American Games
DESCRIPTION: \nhttps://awf.sport/events/xiii-south-american-games/
URL:https://awf.sport/events/xiii-south-american-games/
END:VEVENT
END:VCALENDAR