BEGIN:VCALENDAR
VERSION:2.0
PRODID:-//eventon.com NONSGML v1.0//EN
CALSCALE:GREGORIAN
METHOD:PUBLISH
BEGIN:VEVENT
UID:69e9a75667ea2
DTSTAMP:20260423T050006
DTSTART:20260919T135700Z
DTEND:20261004T135700Z
TZID:Africa/Abidjan
LOCATION:Aichi-Nagoya\,  Japan 
SUMMARY:20th Asian Games
DESCRIPTION: \nhttps://awf.sport/events/20th-asian-games/
URL:https://awf.sport/events/20th-asian-games/
END:VEVENT
END:VCALENDAR