BEGIN:VCALENDAR
VERSION:2.0
PRODID:-//eventon.com NONSGML v1.0//EN
CALSCALE:GREGORIAN
METHOD:PUBLISH
BEGIN:VEVENT
UID:69e9a7b179531
DTSTAMP:20260423T050137
DTSTART:20261025T135700Z
DTEND:20261027T135700Z
TZID:Africa/Abidjan
LOCATION:Ningbo\,  China 
SUMMARY:IWF Official Meetings
DESCRIPTION: \nhttps://awf.sport/events/iwf-official-meetings/
URL:https://awf.sport/events/iwf-official-meetings/
END:VEVENT
END:VCALENDAR