BEGIN:VCALENDAR
VERSION:2.0
PRODID:-//eventon.com NONSGML v1.0//EN
CALSCALE:GREGORIAN
METHOD:PUBLISH
BEGIN:VEVENT
UID:69e9a72748bdc
DTSTAMP:20260423T045919
DTSTART:20261028T135700Z
DTEND:20261109T135700Z
TZID:Africa/Abidjan
LOCATION:Ningbo\,  China 
SUMMARY:IWF World Championships
DESCRIPTION: \nhttps://awf.sport/events/iwf-world-championships-3/
URL:https://awf.sport/events/iwf-world-championships-3/
END:VEVENT
END:VCALENDAR