BEGIN:VCALENDAR
VERSION:2.0
PRODID:-//eventon.com NONSGML v1.0//EN
CALSCALE:GREGORIAN
METHOD:PUBLISH
BEGIN:VEVENT
UID:69e9a6d95ff18
DTSTAMP:20260423T045801
DTSTART:20261031T135700Z
DTEND:20261113T135700Z
TZID:Africa/Abidjan
LOCATION:Dakar\,  Senegal 
SUMMARY:Youth Olympic Games / Weightlifting will be part of the engagement programme
DESCRIPTION: \nhttps://awf.sport/events/youth-olympic-games-weightlifting-will-be-part-of-the-engagement-programme/
URL:https://awf.sport/events/youth-olympic-games-weightlifting-will-be-part-of-the-engagement-programme/
END:VEVENT
END:VCALENDAR